BEGIN:VCALENDAR
VERSION:2.0
PRODID:-//Recinto Ferial//Eventos//ES
CALSCALE:GREGORIAN
METHOD:PUBLISH
BEGIN:VEVENT
UID:30@recinto.feriadeleon.mx
DTSTAMP:20260419T130631Z
DTSTART:20260503T020000Z
DTEND:20260503T040000Z
SUMMARY:TORNEO DINASTÍAS 2026 - CMLL León
DESCRIPTION:﻿🟢 PRIMERA LUCHA\nFuego e Hijo del Panteravs\nLince del Bajío y Príncipe Daniel\n🔵 SEGUNDA LUCHA\nLa Ola Negra: Gallero\, Dark Magic y RaidervsRayo Metálico\, Stigma y Star Black\n🌟 TERCERA LUCHA – TRIANGULAR DE MINI ESTRELLAS\nKemalitovsPerico ZacaríasvsTengu\n💥 CUARTA LUCHA – TRIANGULAR DE AMAZONAS\nTessa BlanchardvsKiravsDark Silueta\n⚔️ LUCHA SEMIFINAL – TORNEO DE DINASTÍAS\nLos Chávez: Ángel de Oro y Niebla RojavsLos Panther: Dark Panther y Blue Panther Jr.vsLos Villanos: Villano III Jr. e Hijo del Villano IIIvsCalavera Jr. I y Calavera Jr. II\n🔥 LUCHA ESTELAR\nKomander\, Xelhua y Dulce GardeniavsSoberano Jr.\, Euforia y Yutani
LOCATION:CENTRO DE ESPECTÁCULOS DE LA FERIA DE ESTATAL LEÓN (CEFEL)
END:VEVENT
END:VCALENDAR
